BEGIN:VCALENDAR
VERSION:2.0
PRODID:-//Main Stage Productions LLC - ECPv6.15.20//NONSGML v1.0//EN
CALSCALE:GREGORIAN
METHOD:PUBLISH
X-ORIGINAL-URL:https://mainstageimprov.com
X-WR-CALDESC:Events for Main Stage Productions LLC
REFRESH-INTERVAL;VALUE=DURATION:PT1H
X-Robots-Tag:noindex
X-PUBLISHED-TTL:PT1H
BEGIN:VTIMEZONE
TZID:America/Chicago
BEGIN:DAYLIGHT
TZOFFSETFROM:-0600
TZOFFSETTO:-0500
TZNAME:CDT
DTSTART:20230312T080000
END:DAYLIGHT
BEGIN:STANDARD
TZOFFSETFROM:-0500
TZOFFSETTO:-0600
TZNAME:CST
DTSTART:20231105T070000
END:STANDARD
BEGIN:DAYLIGHT
TZOFFSETFROM:-0600
TZOFFSETTO:-0500
TZNAME:CDT
DTSTART:20240310T080000
END:DAYLIGHT
BEGIN:STANDARD
TZOFFSETFROM:-0500
TZOFFSETTO:-0600
TZNAME:CST
DTSTART:20241103T070000
END:STANDARD
BEGIN:DAYLIGHT
TZOFFSETFROM:-0600
TZOFFSETTO:-0500
TZNAME:CDT
DTSTART:20250309T080000
END:DAYLIGHT
BEGIN:STANDARD
TZOFFSETFROM:-0500
TZOFFSETTO:-0600
TZNAME:CST
DTSTART:20251102T070000
END:STANDARD
END:VTIMEZONE
BEGIN:VEVENT
DTSTART;TZID=America/Chicago:20241101T080000
DTEND;TZID=America/Chicago:20241101T220000
DTSTAMP:20260424T102017
CREATED:20241017T220851Z
LAST-MODIFIED:20241017T225740Z
UID:1961-1730448000-1730498400@mainstageimprov.com
SUMMARY:Main Stage Improv returns to the FRET Wine Bar and Theatre
DESCRIPTION:Whose Wine is it Anyway?! Main Stage Improv triumphantly returns to the FRET Wine Bar and Theatre with a whole new set of improv games in the style of “Whose Line Is It Anyway?” if you missed Main Stage Improv’s  last HILARIOUS & RAUCOUS SHOW at the FRET–don’t miss out this time! This interactive\, non-stop\, high-energy show is powered by suggestions from YOU-the audience! \nMain Stage Improv is the hilarious cast of Garrett Gray\, Brandon Vlach\, Cory Gawczynski\, Carl Wharam\, Mike McCauley\, Rob Dolliver and George Kulovitz.
URL:https://mainstageimprov.com/event/main-stage-improv-returns-to-the-fret-wine-bar-and-theatre/
LOCATION:FRET Wine Bar & Theatre\, 219 S Bridge Street\, Yorkville\, IL\, 60560\, United States
ATTACH;FMTTYPE=image/jpeg:https://mainstageimprov.com/wp-content/uploads/2024/10/FRET-new-undated-fixed.jpg
END:VEVENT
BEGIN:VEVENT
DTSTART;TZID=America/Chicago:20241110T130000
DTEND;TZID=America/Chicago:20241110T141500
DTSTAMP:20260424T102017
CREATED:20241017T225330Z
LAST-MODIFIED:20241105T044418Z
UID:1966-1731243600-1731248100@mainstageimprov.com
SUMMARY:Main Stage Presents "Small Balls" in their Improv Fundamentals Graduation Show
DESCRIPTION:Main Stage Improv presents “Small Balls” in their Improv Fundamentals Class graduation show on Sunday\, November 10 from 1 to 2:15 pm at the Tinley Park Performing Arts Center at 16801 80th Ave\, Tinley Park\, IL 60477. Doors open to the public at 12:30 pm! The Tinley Park-Park District Class is the funny team of Judie Beshansky\, Dara Burris\, Megan Cavanaugh\, Kris Reid and Nicholas Tholen. \nIt is FREE to attend.\nLimited Seating so get there early to get a good seat. \nShow Rating PG-13
URL:https://mainstageimprov.com/event/main-stage-presents-its-tppd-improv-class-in-its-graduation-show/
LOCATION:Tinley Park Performing Arts Center\, 16801 80th Ave\, Tinley Park\, IL\, 60477\, United States
ATTACH;FMTTYPE=image/jpeg:https://mainstageimprov.com/wp-content/uploads/2024/10/Small-Balls-200-MB.jpg
END:VEVENT
END:VCALENDAR