BEGIN:VCALENDAR
VERSION:2.0
PRODID:-//Main Stage Productions LLC - ECPv6.15.20//NONSGML v1.0//EN
CALSCALE:GREGORIAN
METHOD:PUBLISH
X-ORIGINAL-URL:https://mainstageimprov.com
X-WR-CALDESC:Events for Main Stage Productions LLC
REFRESH-INTERVAL;VALUE=DURATION:PT1H
X-Robots-Tag:noindex
X-PUBLISHED-TTL:PT1H
BEGIN:VTIMEZONE
TZID:America/Chicago
BEGIN:DAYLIGHT
TZOFFSETFROM:-0600
TZOFFSETTO:-0500
TZNAME:CDT
DTSTART:20230312T080000
END:DAYLIGHT
BEGIN:STANDARD
TZOFFSETFROM:-0500
TZOFFSETTO:-0600
TZNAME:CST
DTSTART:20231105T070000
END:STANDARD
BEGIN:DAYLIGHT
TZOFFSETFROM:-0600
TZOFFSETTO:-0500
TZNAME:CDT
DTSTART:20240310T080000
END:DAYLIGHT
BEGIN:STANDARD
TZOFFSETFROM:-0500
TZOFFSETTO:-0600
TZNAME:CST
DTSTART:20241103T070000
END:STANDARD
BEGIN:DAYLIGHT
TZOFFSETFROM:-0600
TZOFFSETTO:-0500
TZNAME:CDT
DTSTART:20250309T080000
END:DAYLIGHT
BEGIN:STANDARD
TZOFFSETFROM:-0500
TZOFFSETTO:-0600
TZNAME:CST
DTSTART:20251102T070000
END:STANDARD
END:VTIMEZONE
BEGIN:VEVENT
DTSTART;TZID=America/Chicago:20241004T200000
DTEND;TZID=America/Chicago:20241004T220000
DTSTAMP:20260424T083557
CREATED:20240617T170054Z
LAST-MODIFIED:20240918T134245Z
UID:1676-1728072000-1728079200@mainstageimprov.com
SUMMARY:Main Stage Improv’s Way Too Early Halloween Show: Creeping it Real
DESCRIPTION:Do you have your Halloween costume all ready\, but no place to go! No Worries! Main Stage Improv’s  got you covered! Grab your pumpkin spice latte and get into an early Halloween mood in this two-hour laugh-out-loud show of various improv games done in the style of “Whose Line is it Anyway?” with a Halloween twist. This interactive\, non-stop\, high-energy show is driven by suggestions from YOU the audience. In the Spirt of Halloween\, improvisers will be in costume! \nTickets are $14 (cash or credit) at the door on the day of the performance. \nGet there 15 minutes early because seating is limited. When SOLD OUT that’s it! \nShow Rating PG-13 \nBUY YOUR TICKETS HERE: https://webtrac.tpdistrict.org/wbwsc/webtrac.wsc/addtocart.html?FromProgram=search&GlobalSalesArea_PSTItemQuantity=1&Module=PST&PSTFMIDList=24547460&_csrf_token=nT0P05180A052D4L2G362N4G5R5Q64560H5R4P5I6B045O4Z5R6D066X4P6E5Z064N4L5E6Q725O5T705I025R5V564S6O5U506K6K0D5K4R6J6P6E5L4Q566D19574P5N&fbclid=IwY2xjawFXtslleHRuA2FlbQIxMAABHenMdm9mVaNvxsShvqu6kZ9yPqKT_-rsE4VA3QzoscbWYHZs89rX9VkczQ_aem_6fLfAiHGeAAtIz4c7T5C9w
URL:https://mainstageimprov.com/event/main-stage-improvs-way-too-early-halloween-show-creeping-it-real/
LOCATION:Tinley Park Performing Arts Center\, 16801 80th Ave\, Tinley Park\, IL\, 60477\, United States
ATTACH;FMTTYPE=image/jpeg:https://mainstageimprov.com/wp-content/uploads/2024/06/MSI-Halloween-improv.jpg
END:VEVENT
BEGIN:VEVENT
DTSTART;TZID=America/Chicago:20241025T200000
DTEND;TZID=America/Chicago:20241025T211500
DTSTAMP:20260424T083557
CREATED:20241017T215808Z
LAST-MODIFIED:20241023T162358Z
UID:1952-1729886400-1729890900@mainstageimprov.com
SUMMARY:Main Stage Improv presents "Weird Fun Shway" in their Improv Fundamentals Graduation Show
DESCRIPTION:Main Stage Improv presents its Orland Park class improv troupe “Weird Fun Shway” in their Improv Fundamentals Class graduation show on Friday\, October 25 from 8:00 to 9:15 pm in the gymnasium of the Frank Loebe Recreation Center at 14650 S Ravinia Ave\, Orland Park\, IL 60462. Doors open to the public at 7:30 pm! “Weird Fun Shway” is the hilarious team of Brian Breen\, Cathy Cummings\, Frank Kladis\, Mary Meehan\, Matt Seeberg\, Heather Slack\, Paula Troesch\, and Phil Vuollet.  \nIt is FREE to attend.\nLimited Seating so get there early to get a good seat. \nShow Rating PG-13
URL:https://mainstageimprov.com/event/main-stage-improv-presents-the-orland-park-class-in-their-improv-fundamentals-graduation-show-on-10-25-24/
LOCATION:Studio VOP\, 14409 Beacon\, Orland Park\, IL\, 60462\, United States
ATTACH;FMTTYPE=image/jpeg:https://mainstageimprov.com/wp-content/uploads/2024/10/Weird-Fun-Shway-cast-photo-1-200-kb.jpg
END:VEVENT
END:VCALENDAR