BEGIN:VCALENDAR
VERSION:2.0
PRODID:-//Main Stage Productions LLC - ECPv6.15.20//NONSGML v1.0//EN
CALSCALE:GREGORIAN
METHOD:PUBLISH
X-ORIGINAL-URL:https://mainstageimprov.com
X-WR-CALDESC:Events for Main Stage Productions LLC
REFRESH-INTERVAL;VALUE=DURATION:PT1H
X-Robots-Tag:noindex
X-PUBLISHED-TTL:PT1H
BEGIN:VTIMEZONE
TZID:America/Chicago
BEGIN:DAYLIGHT
TZOFFSETFROM:-0600
TZOFFSETTO:-0500
TZNAME:CDT
DTSTART:20230312T080000
END:DAYLIGHT
BEGIN:STANDARD
TZOFFSETFROM:-0500
TZOFFSETTO:-0600
TZNAME:CST
DTSTART:20231105T070000
END:STANDARD
BEGIN:DAYLIGHT
TZOFFSETFROM:-0600
TZOFFSETTO:-0500
TZNAME:CDT
DTSTART:20240310T080000
END:DAYLIGHT
BEGIN:STANDARD
TZOFFSETFROM:-0500
TZOFFSETTO:-0600
TZNAME:CST
DTSTART:20241103T070000
END:STANDARD
BEGIN:DAYLIGHT
TZOFFSETFROM:-0600
TZOFFSETTO:-0500
TZNAME:CDT
DTSTART:20250309T080000
END:DAYLIGHT
BEGIN:STANDARD
TZOFFSETFROM:-0500
TZOFFSETTO:-0600
TZNAME:CST
DTSTART:20251102T070000
END:STANDARD
END:VTIMEZONE
BEGIN:VEVENT
DTSTART;TZID=America/Chicago:20240925T190000
DTEND;TZID=America/Chicago:20240925T200000
DTSTAMP:20260424T083400
CREATED:20240617T171658Z
LAST-MODIFIED:20240617T171658Z
UID:1688-1727290800-1727294400@mainstageimprov.com
SUMMARY:Superhero Improv @ The Tinley Park Public Library’s Fall Fandom Fest
DESCRIPTION:Want to improve your ability to think on your feet & have fun while doing it? Then this Improv Workshop is for YOU. In this inclusive hands-on Improv workshop\, YOU will learn the tools to ‘Improve like a Superhero’ in any occasion & become socially fearless. Improviser Garrett Gray will lead attendees in 6 hands-on improv exercises using Improv principles learned from The Second City\, Comedy Sportz & Laugh Out Loud Theater. Garrett will lead the Improv exercises dressed up as a Superhero. Attendees are encouraged to dress in costume\, but it is not required. \nFor Grades: 4th to 8th \nFree to the Public. \nNeed to register with Tinley Park Public Library when they are made available.https://www.tplibrary.org/ \n  \n 
URL:https://mainstageimprov.com/event/superhero-improv-the-tinley-park-public-librarys-fall-fandom-fest-2/
LOCATION:Tinley Park Public Library\, 7851 Timber Dr\, Tinley Park\, IL\, 60477\, United States
ATTACH;FMTTYPE=image/jpeg:https://mainstageimprov.com/wp-content/uploads/2023/09/Sep-19-Superhero-Improv-soc-Update.jpg
END:VEVENT
END:VCALENDAR