BEGIN:VCALENDAR
VERSION:2.0
PRODID:-//Main Stage Productions LLC - ECPv6.15.20//NONSGML v1.0//EN
CALSCALE:GREGORIAN
METHOD:PUBLISH
X-ORIGINAL-URL:https://mainstageimprov.com
X-WR-CALDESC:Events for Main Stage Productions LLC
REFRESH-INTERVAL;VALUE=DURATION:PT1H
X-Robots-Tag:noindex
X-PUBLISHED-TTL:PT1H
BEGIN:VTIMEZONE
TZID:America/Chicago
BEGIN:DAYLIGHT
TZOFFSETFROM:-0600
TZOFFSETTO:-0500
TZNAME:CDT
DTSTART:20230312T080000
END:DAYLIGHT
BEGIN:STANDARD
TZOFFSETFROM:-0500
TZOFFSETTO:-0600
TZNAME:CST
DTSTART:20231105T070000
END:STANDARD
BEGIN:DAYLIGHT
TZOFFSETFROM:-0600
TZOFFSETTO:-0500
TZNAME:CDT
DTSTART:20240310T080000
END:DAYLIGHT
BEGIN:STANDARD
TZOFFSETFROM:-0500
TZOFFSETTO:-0600
TZNAME:CST
DTSTART:20241103T070000
END:STANDARD
BEGIN:DAYLIGHT
TZOFFSETFROM:-0600
TZOFFSETTO:-0500
TZNAME:CDT
DTSTART:20250309T080000
END:DAYLIGHT
BEGIN:STANDARD
TZOFFSETFROM:-0500
TZOFFSETTO:-0600
TZNAME:CST
DTSTART:20251102T070000
END:STANDARD
END:VTIMEZONE
BEGIN:VEVENT
DTSTART;TZID=America/Chicago:20240912T190000
DTEND;TZID=America/Chicago:20240912T200000
DTSTAMP:20260424T084111
CREATED:20240617T172721Z
LAST-MODIFIED:20240617T172905Z
UID:1691-1726167600-1726171200@mainstageimprov.com
SUMMARY:Main Stage Improv's 1-hour Adult Improv Workshop
DESCRIPTION:Want to improve your ability to think on your feet & have fun while doing it? Then this Improv Workshop is for YOU. In this inclusive hands-on Improv workshop\, YOU will learn the tools to Improv in any occasion & become socially fearless. Improviser Garrett Gray will lead attendees in 6 hands-on improv exercises in this power hour using Improv principles learned from The Second City\, Comedy Sportz & Laugh Out Loud Theater. \nLocation: Daytona Room inside of the Tony Bettenhausen Recreation Center \nAges; 18+ \n$11 Payable at the venue. Cash or Credit accepted!
URL:https://mainstageimprov.com/event/main-stage-improvs-1-hour-adult-improv-workshop/
LOCATION:Tony Bettenhausen Recreation Center\, 8125 W 171st Street\, Tinley Park\, IL\, 60477\, United States
ATTACH;FMTTYPE=image/jpeg:https://mainstageimprov.com/wp-content/uploads/2023/08/Main-Stage-Productions-Improv-Courses.jpg
END:VEVENT
END:VCALENDAR